BEGIN:VCALENDAR
VERSION:2.0
PRODID:-//https://windenergyireland.com///NONSGML kigkonsult.se iCalcreator 2.10.15//
METHOD:PUBLISH
BEGIN:VEVENT
UID:20260421T051656UTC-5811tJbf4h@https://windenergyireland.com/
DTSTAMP:20260421T051656Z
DESCRIPTION:The Wind Energy Ireland Q3 Policy Forum will focus on the futur
 e of offshore wind and the important role floating wind will play in reach
 ing Ireland’s longer-term targets for 2040\, and ultimately 2050. The ORE 
 Future Framework Policy and Powering Prosperity – Ireland’s Offshore Wind 
 Industrial Strategy\, both published this year\, set out a number of actio
 ns which will be required over to the coming years to build towards our of
 fshore goals\, and highlighting the need for floating wind as part of our 
 offshore wind future.\nWe will discuss what the vision is for floating off
 shore wind and examine the progress which has been made internationally to
  date\, before we turn our attention to what Ireland must do to kick-start
  and build confidence in the Irish floating wind industry.&nbsp\;\n\n&nbsp
 \;\nThis event is being held for WEI members only and is free to attend. H
 owever the venue capacity is limited so be sure to reserve your place in a
 dvance by emailing events@windenergyireland.com https://windenergyireland.
 com/events/previous-events/event/80-q3-policy-forum
DTSTART:20240918T090000Z
DTEND:20240918T120000Z
LOCATION:Clayton Burlington Hotel\, Dublin 4 (Clayton Burlington Hotel\, Du
 blin 4)
SUMMARY:Q3 Policy Forum 
URL:https://windenergyireland.com/events/previous-events/event/80-q3-policy
 -forum
END:VEVENT
END:VCALENDAR
