BEGIN:VCALENDAR
VERSION:2.0
PRODID:-//https://windenergyireland.com///NONSGML kigkonsult.se iCalcreator 2.10.15//
METHOD:PUBLISH
BEGIN:VEVENT
UID:20260422T193934UTC-0063xxx63b@https://windenergyireland.com/
DTSTAMP:20260422T193934Z
DESCRIPTION:We are pleased to announce that the final Policy Forum of the y
 ear will be held on 2nd December 2025 from 10am-1pm in Dublin. Refreshment
 s available from 9:30 am.\nBalancing Wind Energy and Biodiversity:&nbsp\;N
 avigating the Habitats Directive\, Article 6(4) derogations and Nature Pos
 itive Solutions.\n&nbsp\;\nTentative Agenda -&nbsp\;&nbsp\;10am&nbsp\;\nWe
 lcome &amp\; Introduction \n\n\n\nBrian Keville&nbsp\;(MKO\, Chair of WEI 
 Planning Committee) &amp\; John Willougbhy (WEI)\n\n\n\nPanel 1\n\n\n\nExt
 ending the Life of a Wind Farm in a Special Protection Area&nbsp\;&nbsp\;-
  Crystal Leiker (Statkraft)&nbsp\;&nbsp\;\nProgressing an offshore wind fa
 rm through IROPI – a UK perspective&nbsp\;&nbsp\;\nQ&amp\;A\n\n\n\nBreak\n
 Panel 2\n\n\n\nA legal perspective on IROPI&nbsp\;- Brendan Slattery (McCa
 nn Fitzgerald)\nViews on the Article 6(4) processes and guidance for devel
 opers&nbsp\;- Paul Scott (NPWS)&nbsp\;\nNature + Energy&nbsp\;&nbsp\;- Emm
 a King (TCD\, Nature + Energy Project)\n&nbsp\;Q+A\n\n\n\nWrap Up\n&nbsp\;
 \nPlease note that this is a free and exclusive event for WEI members.\nRe
 gister early to secure your spot (places will be allocated on a first-come
 \, first-served basis)\nRegister Here https://windenergyireland.com/events
 /previous-events/event/118-q4-policy-forum-balancing-wind-energy-and-biodi
 versity
DTSTART:20251202T100000Z
DTEND:20251202T130000Z
LOCATION:Radisson Blu Royal Hotel Golden Lane\, Dublin 8 (Golden Lane\, Dub
 lin 8 )
SUMMARY:Q4 Policy Forum - Balancing Wind Energy and Biodiversity
URL:https://windenergyireland.com/events/previous-events/event/118-q4-polic
 y-forum-balancing-wind-energy-and-biodiversity
END:VEVENT
END:VCALENDAR
