BEGIN:VCALENDAR
VERSION:2.0
PRODID:-//https://windenergyireland.com///NONSGML kigkonsult.se iCalcreator 2.10.15//
METHOD:PUBLISH
BEGIN:VEVENT
UID:20260420T092003UTC-5497ADoSlz@https://windenergyireland.com/
DTSTAMP:20260420T092003Z
DESCRIPTION:Sponsorship opportunities now available. To find our more pleas
 e email lorraine.killick@windenergyireland.com\n&nbsp\;\n\n\n\n&nbsp\;\n\n
 Sponsors\n\n\n\nMain Sponsor&nbsp\;\n\nCategory Sponsors\n&nbsp\;\n&nbsp\;
  &nbsp\; &nbsp\; &nbsp\; &nbsp\;  https://windenergyireland.com/events/eve
 nt/122-renewable-energy-awards
DTSTART:20261126T180021Z
DTEND:20261126T230000Z
LOCATION:Dublin Royal Convention Centre\, Ship Street Little\, Dublin (Dubl
 in Royal Convention Centre\, Ship Street Little\, Dublin)
SUMMARY:Renewable Energy Awards
URL:https://windenergyireland.com/events/event/122-renewable-energy-awards
END:VEVENT
END:VCALENDAR
