BEGIN:VCALENDAR
VERSION:2.0
PRODID:-//https://windenergyireland.com///NONSGML kigkonsult.se iCalcreator 2.10.15//
METHOD:PUBLISH
BEGIN:VEVENT
UID:20260420T091928UTC-5016bzU6u7@https://windenergyireland.com/
DTSTAMP:20260420T091928Z
DESCRIPTION:\n	.btn-1 {\n		display: inline-flex\;\n		align-items: center\;
 \n		justify-content: center\;\n		/* Responsive padding */\n		padding: clam
 p(14px\, 2.5vw\, 22px) clamp(28px\, 5vw\, 48px)\;\n		background: #2CCB70\;
 \n		color: #fff\;\n		/* Responsive font size */\n		font-size: clamp(18px\,
  4vw\, 32px)\;\n		text-decoration: none\;\n		border-radius: 50px\;\n		bord
 er: 1px solid #2CCB70\;\n		white-space: nowrap\;\n		transition: transform 
 0.3s ease\, box-shadow 0.3s ease\;\n	}\n	\n	.btn-1:hover {\n		transform: s
 cale(1.1)\;\n		background: #2CCB70\;\n		color: #fff\;\n	}\n\n Register Now
   https://windenergyireland.com/events/event/113-annual-conference-2026
DTSTART:20260121T090000Z
DTEND:20260122T164700Z
LOCATION:Clayton Burlington Hotel\, Dublin 4 (Clayton Burlington Hotel\, Du
 blin 4)
SUMMARY:Annual Conference 2026
URL:https://windenergyireland.com/events/event/113-annual-conference-2026
END:VEVENT
END:VCALENDAR
